BEGIN:VCALENDAR
VERSION:2.0
PRODID:-//Nope Of Hillsborough - ECPv6.15.20//NONSGML v1.0//EN
CALSCALE:GREGORIAN
METHOD:PUBLISH
X-ORIGINAL-URL:https://nopehillsborough.org
X-WR-CALDESC:Events for Nope Of Hillsborough
REFRESH-INTERVAL;VALUE=DURATION:PT1H
X-Robots-Tag:noindex
X-PUBLISHED-TTL:PT1H
BEGIN:VTIMEZONE
TZID:UTC
BEGIN:STANDARD
TZOFFSETFROM:+0000
TZOFFSETTO:+0000
TZNAME:UTC
DTSTART:20210101T000000
END:STANDARD
END:VTIMEZONE
BEGIN:VEVENT
DTSTART;TZID=UTC:20220128T080000
DTEND;TZID=UTC:20220128T170000
DTSTAMP:20260425T220635
CREATED:20220128T182518Z
LAST-MODIFIED:20220128T182518Z
UID:2052-1643356800-1643389200@nopehillsborough.org
SUMMARY:NOPE Student Presentation at Walker Middle School - 8th graders
DESCRIPTION:Our NOPE presentation team will be at Walker Middle School sharing our powerful student presentation with the 8th-grade class.
URL:https://nopehillsborough.org/event/nope-student-presentation-at-walker-middle-school-8th-graders/
END:VEVENT
END:VCALENDAR