BEGIN:VCALENDAR
VERSION:2.0
PRODID:-//Nope Of Hillsborough - ECPv6.15.20//NONSGML v1.0//EN
CALSCALE:GREGORIAN
METHOD:PUBLISH
X-WR-CALNAME:Nope Of Hillsborough
X-ORIGINAL-URL:https://nopehillsborough.org
X-WR-CALDESC:Events for Nope Of Hillsborough
REFRESH-INTERVAL;VALUE=DURATION:PT1H
X-Robots-Tag:noindex
X-PUBLISHED-TTL:PT1H
BEGIN:VTIMEZONE
TZID:UTC
BEGIN:STANDARD
TZOFFSETFROM:+0000
TZOFFSETTO:+0000
TZNAME:UTC
DTSTART:20210101T000000
END:STANDARD
END:VTIMEZONE
BEGIN:VEVENT
DTSTART;TZID=UTC:20220221T110000
DTEND;TZID=UTC:20220221T113000
DTSTAMP:20260425T205737
CREATED:20220222T223451Z
LAST-MODIFIED:20220222T223451Z
UID:2056-1645441200-1645443000@nopehillsborough.org
SUMMARY:NOPE at HCSO school resource deputy training
DESCRIPTION:NOPE of Hillsborough shares current information for the school resource deputies that cover middle and high school campuses in Hillsborough County School District.
URL:https://nopehillsborough.org/event/nope-at-hcso-school-resource-deputy-training/
END:VEVENT
END:VCALENDAR