BEGIN:VCALENDAR
VERSION:2.0
PRODID:-//Nope Of Hillsborough - ECPv6.15.20//NONSGML v1.0//EN
CALSCALE:GREGORIAN
METHOD:PUBLISH
X-ORIGINAL-URL:https://nopehillsborough.org
X-WR-CALDESC:Events for Nope Of Hillsborough
REFRESH-INTERVAL;VALUE=DURATION:PT1H
X-Robots-Tag:noindex
X-PUBLISHED-TTL:PT1H
BEGIN:VTIMEZONE
TZID:UTC
BEGIN:STANDARD
TZOFFSETFROM:+0000
TZOFFSETTO:+0000
TZNAME:UTC
DTSTART:20210101T000000
END:STANDARD
END:VTIMEZONE
BEGIN:VEVENT
DTSTART;TZID=UTC:20220309T103000
DTEND;TZID=UTC:20220309T112000
DTSTAMP:20260425T194231
CREATED:20220128T181345Z
LAST-MODIFIED:20220228T170819Z
UID:2040-1646821800-1646824800@nopehillsborough.org
SUMMARY:NOPE Student Presentation at East Bay High School - 10th grade
DESCRIPTION:Our NOPE presentation team will share a powerful student presentation with students at East Bay High School. The grade level is sophomores.
URL:https://nopehillsborough.org/event/nope-student-presentation-at-east-bay-high-school/
END:VEVENT
END:VCALENDAR