BEGIN:VCALENDAR
VERSION:2.0
PRODID:-//Nope Of Hillsborough - ECPv6.15.20//NONSGML v1.0//EN
CALSCALE:GREGORIAN
METHOD:PUBLISH
X-WR-CALNAME:Nope Of Hillsborough
X-ORIGINAL-URL:https://nopehillsborough.org
X-WR-CALDESC:Events for Nope Of Hillsborough
REFRESH-INTERVAL;VALUE=DURATION:PT1H
X-Robots-Tag:noindex
X-PUBLISHED-TTL:PT1H
BEGIN:VTIMEZONE
TZID:UTC
BEGIN:STANDARD
TZOFFSETFROM:+0000
TZOFFSETTO:+0000
TZNAME:UTC
DTSTART:20210101T000000
END:STANDARD
END:VTIMEZONE
BEGIN:VEVENT
DTSTART;TZID=UTC:20220331T093000
DTEND;TZID=UTC:20220331T102000
DTSTAMP:20260425T183123
CREATED:20220330T175149Z
LAST-MODIFIED:20220330T175149Z
UID:2087-1648719000-1648722000@nopehillsborough.org
SUMMARY:NOPE Student Presentation at Mulrennan Middle School - 8th Grade
DESCRIPTION:The 8th grade class of Mulrennan MS will experience the NOPE student presentation on this morning.
URL:https://nopehillsborough.org/event/nope-student-presentation-at-mulrennan-middle-school-8th-grade/
END:VEVENT
END:VCALENDAR