BEGIN:VCALENDAR
VERSION:2.0
PRODID:-//Nope Of Hillsborough - ECPv6.15.20//NONSGML v1.0//EN
CALSCALE:GREGORIAN
METHOD:PUBLISH
X-ORIGINAL-URL:https://nopehillsborough.org
X-WR-CALDESC:Events for Nope Of Hillsborough
REFRESH-INTERVAL;VALUE=DURATION:PT1H
X-Robots-Tag:noindex
X-PUBLISHED-TTL:PT1H
BEGIN:VTIMEZONE
TZID:UTC
BEGIN:STANDARD
TZOFFSETFROM:+0000
TZOFFSETTO:+0000
TZNAME:UTC
DTSTART:20210101T000000
END:STANDARD
END:VTIMEZONE
BEGIN:VEVENT
DTSTART;TZID=UTC:20220401T141500
DTEND;TZID=UTC:20220401T150500
DTSTAMP:20260425T183206
CREATED:20220128T181901Z
LAST-MODIFIED:20220128T181901Z
UID:2046-1648822500-1648825500@nopehillsborough.org
SUMMARY:NOPE Student Presentation at Brooks DeBartolo Collegiate HS - Juniors and Seniors
DESCRIPTION:Our NOPE of Hillsborough presentation team will share our powerful student presentation with the juniors and seniors on Brooks DeBartolo.
URL:https://nopehillsborough.org/event/nope-student-presentation-at-brooks-debartolo-collegiate-hs-juniors-and-seniors/
END:VEVENT
END:VCALENDAR