BEGIN:VCALENDAR
VERSION:2.0
PRODID:-//Nope Of Hillsborough - ECPv6.15.20//NONSGML v1.0//EN
CALSCALE:GREGORIAN
METHOD:PUBLISH
X-ORIGINAL-URL:https://nopehillsborough.org
X-WR-CALDESC:Events for Nope Of Hillsborough
REFRESH-INTERVAL;VALUE=DURATION:PT1H
X-Robots-Tag:noindex
X-PUBLISHED-TTL:PT1H
BEGIN:VTIMEZONE
TZID:UTC
BEGIN:STANDARD
TZOFFSETFROM:+0000
TZOFFSETTO:+0000
TZNAME:UTC
DTSTART:20210101T000000
END:STANDARD
END:VTIMEZONE
BEGIN:VEVENT
DTSTART;TZID=UTC:20220406T105000
DTEND;TZID=UTC:20220406T114000
DTSTAMP:20260425T183206
CREATED:20220128T182208Z
LAST-MODIFIED:20220330T174827Z
UID:2048-1649242200-1649245200@nopehillsborough.org
SUMMARY:NOPE Student Presentation at Sickles High School - Seniors
DESCRIPTION:The NOPE of Hillsborough team will be at Sickles High School to share a powerful student presentation with the senior class. The time is TBD.
URL:https://nopehillsborough.org/event/nope-student-presentation-at-sickles-high-school-seniors/
END:VEVENT
END:VCALENDAR