BEGIN:VCALENDAR
VERSION:2.0
PRODID:-//Nope Of Hillsborough - ECPv6.15.20//NONSGML v1.0//EN
CALSCALE:GREGORIAN
METHOD:PUBLISH
X-WR-CALNAME:Nope Of Hillsborough
X-ORIGINAL-URL:https://nopehillsborough.org
X-WR-CALDESC:Events for Nope Of Hillsborough
REFRESH-INTERVAL;VALUE=DURATION:PT1H
X-Robots-Tag:noindex
X-PUBLISHED-TTL:PT1H
BEGIN:VTIMEZONE
TZID:UTC
BEGIN:STANDARD
TZOFFSETFROM:+0000
TZOFFSETTO:+0000
TZNAME:UTC
DTSTART:20210101T000000
END:STANDARD
END:VTIMEZONE
BEGIN:VEVENT
DTSTART;TZID=UTC:20220813T100000
DTEND;TZID=UTC:20220813T120000
DTSTAMP:20260423T155405
CREATED:20220807T170840Z
LAST-MODIFIED:20220807T170840Z
UID:2158-1660384800-1660392000@nopehillsborough.org
SUMMARY:Journey to Healing Hearts Grief Support Group
DESCRIPTION:Please join us on the 2nd Saturday of every month at 10am as we offer support to those who have lost loved ones to drug or alcohol-abuse.\nThe address is Wesley Memorial Church\, 6100 Memorial Highway\, Tampa\, 33615. Go to the building behind the church for parking. The meeting is in the big square building at the back of the church. Look for Room 204. \nPlease email togetheragain@earthlink.net to receive further details and/or the ZOOM option.
URL:https://nopehillsborough.org/event/journey-to-healing-hearts-grief-support-group-11/
LOCATION:Wesley Memorial Church\, 6100 Memorial Highway\, Tampa\, FL\, 33615\, United States
END:VEVENT
BEGIN:VEVENT
DTSTART;TZID=UTC:20220813T120000
DTEND;TZID=UTC:20220813T140000
DTSTAMP:20260423T155405
CREATED:20220709T181601Z
LAST-MODIFIED:20220709T181601Z
UID:2124-1660392000-1660399200@nopehillsborough.org
SUMMARY:Journey to Healing Hearts Grief Support Group
DESCRIPTION:This support group will meet in person on August 13\, 2022. The start time is 10 am EST.\nThe address is Wesley Memorial Church\, 6100 Memorial Highway\, Tampa\, 33615. Go to the building behind the church for parking. The meeting is in the big square building at the back of the church. Look for Room 204. \nPlease email togetheragain@earthlink.net to receive further details and/or the ZOOM option.
URL:https://nopehillsborough.org/event/journey-to-healing-hearts-grief-support-group-10/
END:VEVENT
END:VCALENDAR