BEGIN:VCALENDAR
VERSION:2.0
PRODID:-//Nope Of Hillsborough - ECPv6.15.20//NONSGML v1.0//EN
CALSCALE:GREGORIAN
METHOD:PUBLISH
X-ORIGINAL-URL:https://nopehillsborough.org
X-WR-CALDESC:Events for Nope Of Hillsborough
REFRESH-INTERVAL;VALUE=DURATION:PT1H
X-Robots-Tag:noindex
X-PUBLISHED-TTL:PT1H
BEGIN:VTIMEZONE
TZID:UTC
BEGIN:STANDARD
TZOFFSETFROM:+0000
TZOFFSETTO:+0000
TZNAME:UTC
DTSTART:20210101T000000
END:STANDARD
END:VTIMEZONE
BEGIN:VEVENT
DTSTART;TZID=UTC:20220914T092000
DTEND;TZID=UTC:20220914T101000
DTSTAMP:20260423T133935
CREATED:20220807T163955Z
LAST-MODIFIED:20220807T163955Z
UID:2127-1663147200-1663150200@nopehillsborough.org
SUMMARY:Nope Student Presentation - Robinson HS - Juniors
DESCRIPTION:Nope of Hillsborough shares their powerful presentation with the Junior class of Robinson HS.
URL:https://nopehillsborough.org/event/nope-student-presentation-robinson-hs-juniors/
LOCATION:robinson hs\, 6311 S Lois Ave\, Tampa\, FL\, 33616\, United States
END:VEVENT
END:VCALENDAR