BEGIN:VCALENDAR
VERSION:2.0
PRODID:-//Nope Of Hillsborough - ECPv6.15.20//NONSGML v1.0//EN
CALSCALE:GREGORIAN
METHOD:PUBLISH
X-ORIGINAL-URL:https://nopehillsborough.org
X-WR-CALDESC:Events for Nope Of Hillsborough
REFRESH-INTERVAL;VALUE=DURATION:PT1H
X-Robots-Tag:noindex
X-PUBLISHED-TTL:PT1H
BEGIN:VTIMEZONE
TZID:UTC
BEGIN:STANDARD
TZOFFSETFROM:+0000
TZOFFSETTO:+0000
TZNAME:UTC
DTSTART:20210101T000000
END:STANDARD
END:VTIMEZONE
BEGIN:VEVENT
DTSTART;TZID=UTC:20220921T094500
DTEND;TZID=UTC:20220921T103500
DTSTAMP:20260423T133150
CREATED:20220807T164905Z
LAST-MODIFIED:20220830T150443Z
UID:2135-1663753500-1663756500@nopehillsborough.org
SUMMARY:Nope Student Presentation - Mulrennen MS - 6th grade
DESCRIPTION:Nope of Hillsborough shares their powerful presentation with the 6th grade class of Mulrennen MS.
URL:https://nopehillsborough.org/event/nope-student-presentation-mulrennen-ms-6th-grade/
LOCATION:Mulrennen MS\, 4215 Durant Rd\, Valrico\, FL\, 33594\, United States
END:VEVENT
END:VCALENDAR