BEGIN:VCALENDAR
VERSION:2.0
PRODID:-//Nope Of Hillsborough - ECPv6.15.20//NONSGML v1.0//EN
CALSCALE:GREGORIAN
METHOD:PUBLISH
X-ORIGINAL-URL:https://nopehillsborough.org
X-WR-CALDESC:Events for Nope Of Hillsborough
REFRESH-INTERVAL;VALUE=DURATION:PT1H
X-Robots-Tag:noindex
X-PUBLISHED-TTL:PT1H
BEGIN:VTIMEZONE
TZID:UTC
BEGIN:STANDARD
TZOFFSETFROM:+0000
TZOFFSETTO:+0000
TZNAME:UTC
DTSTART:20210101T000000
END:STANDARD
END:VTIMEZONE
BEGIN:VEVENT
DTSTART;TZID=UTC:20221004T100000
DTEND;TZID=UTC:20221008T120000
DTSTAMP:20260421T162803
CREATED:20220830T150850Z
LAST-MODIFIED:20220830T151018Z
UID:2182-1664877600-1665230400@nopehillsborough.org
SUMMARY:Nope Student Presentation - Cristo Rey - All grades
DESCRIPTION:Nope of Hillsborough shares their powerful presentation with all the classes at Cristo Rey High School
URL:https://nopehillsborough.org/event/nope-student-presentation-cristo-rey-all-grades/
LOCATION:Cristo Rey HS\, 6400 E Chelsea St\, Tampa\, 33610\, United States
END:VEVENT
BEGIN:VEVENT
DTSTART;TZID=UTC:20221008T100000
DTEND;TZID=UTC:20221008T120000
DTSTAMP:20260421T162803
CREATED:20220807T170955Z
LAST-MODIFIED:20220807T170955Z
UID:2163-1665223200-1665230400@nopehillsborough.org
SUMMARY:Journey to Healing Hearts Grief Support Group
DESCRIPTION:Please join us on the 2nd Saturday of every month at 10am as we offer support to those who have lost loved ones to drug or alcohol-abuse.\nThe address is Wesley Memorial Church\, 6100 Memorial Highway\, Tampa\, 33615. Go to the building behind the church for parking. The meeting is in the big square building at the back of the church. Look for Room 204. \nPlease email togetheragain@earthlink.net to receive further details and/or the ZOOM option.
URL:https://nopehillsborough.org/event/journey-to-healing-hearts-grief-support-group-13/
LOCATION:Wesley Memorial Church\, 6100 Memorial Highway\, Tampa\, FL\, 33615\, United States
END:VEVENT
END:VCALENDAR