BEGIN:VCALENDAR
VERSION:2.0
PRODID:-//Nope Of Hillsborough - ECPv6.15.20//NONSGML v1.0//EN
CALSCALE:GREGORIAN
METHOD:PUBLISH
X-ORIGINAL-URL:https://nopehillsborough.org
X-WR-CALDESC:Events for Nope Of Hillsborough
REFRESH-INTERVAL;VALUE=DURATION:PT1H
X-Robots-Tag:noindex
X-PUBLISHED-TTL:PT1H
BEGIN:VTIMEZONE
TZID:UTC
BEGIN:STANDARD
TZOFFSETFROM:+0000
TZOFFSETTO:+0000
TZNAME:UTC
DTSTART:20210101T000000
END:STANDARD
END:VTIMEZONE
BEGIN:VEVENT
DTSTART;TZID=UTC:20221018T103000
DTEND;TZID=UTC:20221018T114000
DTSTAMP:20260421T162929
CREATED:20220807T165340Z
LAST-MODIFIED:20220807T165340Z
UID:2145-1666089000-1666093200@nopehillsborough.org
SUMMARY:Nope Student Presentation - Alonso MS - Seniors
DESCRIPTION:Nope of Hillsborough shares their powerful presentation with the Senior class of Alonso HS.
URL:https://nopehillsborough.org/event/nope-student-presentation-alonso-ms-seniors/
LOCATION:Alonso HS\, 8302 Montague St\, Tampa\, FL\, 33636\, United States
END:VEVENT
END:VCALENDAR