BEGIN:VCALENDAR
VERSION:2.0
PRODID:-//Nope Of Hillsborough - ECPv6.15.20//NONSGML v1.0//EN
CALSCALE:GREGORIAN
METHOD:PUBLISH
X-WR-CALNAME:Nope Of Hillsborough
X-ORIGINAL-URL:https://nopehillsborough.org
X-WR-CALDESC:Events for Nope Of Hillsborough
REFRESH-INTERVAL;VALUE=DURATION:PT1H
X-Robots-Tag:noindex
X-PUBLISHED-TTL:PT1H
BEGIN:VTIMEZONE
TZID:UTC
BEGIN:STANDARD
TZOFFSETFROM:+0000
TZOFFSETTO:+0000
TZNAME:UTC
DTSTART:20210101T000000
END:STANDARD
END:VTIMEZONE
BEGIN:VEVENT
DTSTART;TZID=UTC:20221020T180000
DTEND;TZID=UTC:20221020T210000
DTSTAMP:20260421T190451
CREATED:20220807T165602Z
LAST-MODIFIED:20220807T165602Z
UID:2148-1666288800-1666299600@nopehillsborough.org
SUMMARY:VIGIL
DESCRIPTION:Nope of Hillsborough is hosting a VIGIL in memory of those whom have lost their lives due to an overdose.
URL:https://nopehillsborough.org/event/vigil/
LOCATION:Hillsborough High School Tampa FL\, 5000 N Central Ave\, Tampa\, FL\, FL\, 33603\, United States
END:VEVENT
END:VCALENDAR