BEGIN:VCALENDAR
VERSION:2.0
PRODID:-//Nope Of Hillsborough - ECPv6.15.20//NONSGML v1.0//EN
CALSCALE:GREGORIAN
METHOD:PUBLISH
X-WR-CALNAME:Nope Of Hillsborough
X-ORIGINAL-URL:https://nopehillsborough.org
X-WR-CALDESC:Events for Nope Of Hillsborough
REFRESH-INTERVAL;VALUE=DURATION:PT1H
X-Robots-Tag:noindex
X-PUBLISHED-TTL:PT1H
BEGIN:VTIMEZONE
TZID:UTC
BEGIN:STANDARD
TZOFFSETFROM:+0000
TZOFFSETTO:+0000
TZNAME:UTC
DTSTART:20210101T000000
END:STANDARD
END:VTIMEZONE
BEGIN:VEVENT
DTSTART;TZID=UTC:20221025T100000
DTEND;TZID=UTC:20221025T105000
DTSTAMP:20260421T190450
CREATED:20220807T165818Z
LAST-MODIFIED:20220807T165818Z
UID:2150-1666692000-1666695000@nopehillsborough.org
SUMMARY:Nope Student Presentation - Leto HS - Seniors
DESCRIPTION:Nope of Hillsborough shares their powerful presentation with the Senior class of Leto HS.
URL:https://nopehillsborough.org/event/nope-student-presentation-leto-hs-seniors/
LOCATION:Leto HS\, 4409 W Sligh Ave\, Tampa\, FL\, 33614\, United States
END:VEVENT
END:VCALENDAR