BEGIN:VCALENDAR
VERSION:2.0
PRODID:-//Nope Of Hillsborough - ECPv6.15.20//NONSGML v1.0//EN
CALSCALE:GREGORIAN
METHOD:PUBLISH
X-ORIGINAL-URL:https://nopehillsborough.org
X-WR-CALDESC:Events for Nope Of Hillsborough
REFRESH-INTERVAL;VALUE=DURATION:PT1H
X-Robots-Tag:noindex
X-PUBLISHED-TTL:PT1H
BEGIN:VTIMEZONE
TZID:UTC
BEGIN:STANDARD
TZOFFSETFROM:+0000
TZOFFSETTO:+0000
TZNAME:UTC
DTSTART:20220101T000000
END:STANDARD
END:VTIMEZONE
BEGIN:VEVENT
DTSTART;TZID=UTC:20230216T102000
DTEND;TZID=UTC:20230216T111000
DTSTAMP:20260421T094108
CREATED:20220830T151337Z
LAST-MODIFIED:20220830T151337Z
UID:2185-1676542800-1676545800@nopehillsborough.org
SUMMARY:Nope Student Presentation - Steinbrenner HS - Juniors
DESCRIPTION:Nope of Hillsborough shares their powerful presentation with the Junior class of Steinbrenner HS.
URL:https://nopehillsborough.org/event/nope-student-presentation-steinbrenner-hs-juniors/
LOCATION:Steinbrenner HS\, 5575 W Lutz Lake Fern Rd\, Lutz\, FL\, 33558\, United States
END:VEVENT
END:VCALENDAR