BEGIN:VCALENDAR
VERSION:2.0
PRODID:-//Nope Of Hillsborough - ECPv6.15.20//NONSGML v1.0//EN
CALSCALE:GREGORIAN
METHOD:PUBLISH
X-WR-CALNAME:Nope Of Hillsborough
X-ORIGINAL-URL:https://nopehillsborough.org
X-WR-CALDESC:Events for Nope Of Hillsborough
REFRESH-INTERVAL;VALUE=DURATION:PT1H
X-Robots-Tag:noindex
X-PUBLISHED-TTL:PT1H
BEGIN:VTIMEZONE
TZID:UTC
BEGIN:STANDARD
TZOFFSETFROM:+0000
TZOFFSETTO:+0000
TZNAME:UTC
DTSTART:20170101T000000
END:STANDARD
END:VTIMEZONE
BEGIN:VEVENT
DTSTART;TZID=UTC:20190112T120000
DTEND;TZID=UTC:20190112T133000
DTSTAMP:20260419T205138
CREATED:20180806T191707Z
LAST-MODIFIED:20180806T191707Z
UID:729-1547294400-1547299800@nopehillsborough.org
SUMMARY:Journey to Healing Hearts - A Support Group
DESCRIPTION:Please join us on the 2nd Saturday of every month at 12 noon as we offer support to those who have lost loved ones to drug or alcohol-abuse. Location is: 2815 E Henry Ave B-1\, Tampa\, FL 33610.
URL:https://nopehillsborough.org/event/journey-healing-hearts-support-group-9/
END:VEVENT
BEGIN:VEVENT
DTSTART;TZID=UTC:20181210T130000
DTEND;TZID=UTC:20181210T135000
DTSTAMP:20260419T205138
CREATED:20181117T151232Z
LAST-MODIFIED:20181117T154403Z
UID:853-1544446800-1544449800@nopehillsborough.org
SUMMARY:NOPE Student Presentation - Robinson High School - 9-12th grades (2nd Presentation)
DESCRIPTION:NOPE of Hillsborough shares their powerful presentation with the 9-12th grades of Robinson HS.
URL:https://nopehillsborough.org/event/nope-student-presentation-robinson-high-school-9-12th-grades-2nd-presentation/
END:VEVENT
BEGIN:VEVENT
DTSTART;TZID=UTC:20181210T084500
DTEND;TZID=UTC:20181210T093500
DTSTAMP:20260419T205138
CREATED:20181117T151115Z
LAST-MODIFIED:20181117T154322Z
UID:851-1544431500-1544434500@nopehillsborough.org
SUMMARY:NOPE Student Presentation - Robinson High School - 9-12th grades (1st Presentation)
DESCRIPTION:NOPE of Hillsborough shares their powerful presentation with the 9-12th grades of Robinson HS.
URL:https://nopehillsborough.org/event/nope-student-presentation-robinson-high-school-9-12th-grades-1st-presentation/
END:VEVENT
BEGIN:VEVENT
DTSTART;TZID=UTC:20181208T120000
DTEND;TZID=UTC:20181208T133000
DTSTAMP:20260419T205138
CREATED:20180806T191553Z
LAST-MODIFIED:20180806T191553Z
UID:727-1544270400-1544275800@nopehillsborough.org
SUMMARY:Journey to Healing Hearts - A Support Group
DESCRIPTION:Please join us on the 2nd Saturday of every month at 12 noon as we offer support to those who have lost loved ones to drug or alcohol-abuse. Location is: 2815 E Henry Ave B-1\, Tampa\, FL 33610.
URL:https://nopehillsborough.org/event/journey-healing-hearts-support-group-8/
END:VEVENT
BEGIN:VEVENT
DTSTART;TZID=UTC:20181204T083000
DTEND;TZID=UTC:20181204T092000
DTSTAMP:20260419T205138
CREATED:20181022T205603Z
LAST-MODIFIED:20181022T205603Z
UID:830-1543912200-1543915200@nopehillsborough.org
SUMMARY:NOPE Student Presentation - Franklin Middle Magnet School - 6th grade
DESCRIPTION:NOPE of Hillsborough shares their powerful presentation with the 6th grade of Franklin Middle Magnet School.
URL:https://nopehillsborough.org/event/nope-student-presentation-franklin-middle-magnet-school-6th-grade/
END:VEVENT
BEGIN:VEVENT
DTSTART;TZID=UTC:20181129T132000
DTEND;TZID=UTC:20181129T141000
DTSTAMP:20260419T205138
CREATED:20181018T152659Z
LAST-MODIFIED:20181018T152659Z
UID:826-1543497600-1543500600@nopehillsborough.org
SUMMARY:NOPE Student Presentation - Corpus Christi Catholic School - 8th grade
DESCRIPTION:NOPE of Hillsborough shares their powerful presentation with the 8th grade of Corpus Christi Catholic School.
URL:https://nopehillsborough.org/event/nope-student-presentation-corpus-christi-catholic-school-8th-grade/
END:VEVENT
BEGIN:VEVENT
DTSTART;TZID=UTC:20181127T093000
DTEND;TZID=UTC:20181127T112000
DTSTAMP:20260419T205138
CREATED:20180919T200406Z
LAST-MODIFIED:20181015T151052Z
UID:792-1543311000-1543317600@nopehillsborough.org
SUMMARY:NOPE Student Presentation - Buchanan Middle School - 6th\, 7th  & 8th grades
DESCRIPTION:NOPE of Hillsborough shares their powerful presentation with the 6th\, 7th & 8th grade classes of Buchanan MS.
URL:https://nopehillsborough.org/event/nope-student-presentation-buchanan-middle-school-7th-8th-grades/
END:VEVENT
BEGIN:VEVENT
DTSTART;TZID=UTC:20181115T083000
DTEND;TZID=UTC:20181115T092000
DTSTAMP:20260419T205138
CREATED:20180829T203543Z
LAST-MODIFIED:20180829T204215Z
UID:753-1542270600-1542273600@nopehillsborough.org
SUMMARY:NOPE Student Presentation  - Strawberry Crest High School - Juniors
DESCRIPTION:NOPE of Hillsborough shares their powerful presentation with the Junior class of Strawberry Crest HS.
URL:https://nopehillsborough.org/event/nope-student-presentation-strawberry-crest-high-school/
END:VEVENT
BEGIN:VEVENT
DTSTART;TZID=UTC:20181110T120000
DTEND;TZID=UTC:20181110T133000
DTSTAMP:20260419T205138
CREATED:20180806T191316Z
LAST-MODIFIED:20180806T191316Z
UID:724-1541851200-1541856600@nopehillsborough.org
SUMMARY:Journey to Healing Hearts - A Support Group
DESCRIPTION:Please join us on the 2nd Saturday of every month at 12 noon as we offer support to those who have lost loved ones to drug or alcohol-abuse. Location is: 2815 E Henry Ave B-1\, Tampa\, FL 33610.
URL:https://nopehillsborough.org/event/journey-healing-hearts-support-group-7/
END:VEVENT
BEGIN:VEVENT
DTSTART;TZID=UTC:20181109T134500
DTEND;TZID=UTC:20181109T143500
DTSTAMP:20260419T205138
CREATED:20180904T185623Z
LAST-MODIFIED:20180904T185623Z
UID:769-1541771100-1541774100@nopehillsborough.org
SUMMARY:NOPE Student Presentation - Dowdell Middle Magnet School - 8th grade
DESCRIPTION:NOPE of Hillsborough shares their powerful presentation with the 8th grade of Dowdell MMS.
URL:https://nopehillsborough.org/event/nope-student-presentation-dowdell-middle-magnet-school-8th-grade/
END:VEVENT
BEGIN:VEVENT
DTSTART;TZID=UTC:20181105T125300
DTEND;TZID=UTC:20181105T134100
DTSTAMP:20260419T205138
CREATED:20180902T222453Z
LAST-MODIFIED:20180902T222453Z
UID:765-1541422380-1541425260@nopehillsborough.org
SUMMARY:NOPE Student Presentation - Woodson PK-8 Leadership Academy - 6th grade
DESCRIPTION:NOPE of Hillsborough shares their powerful presentation with the 6th grade of Woodson PK-8 Leadership Academy.
URL:https://nopehillsborough.org/event/nope-student-presentation-woodson-pk-8-leadership-academy-6th-grade/
END:VEVENT
BEGIN:VEVENT
DTSTART;TZID=UTC:20181102T102200
DTEND;TZID=UTC:20181102T111000
DTSTAMP:20260419T205138
CREATED:20180904T185400Z
LAST-MODIFIED:20180904T185400Z
UID:767-1541154120-1541157000@nopehillsborough.org
SUMMARY:NOPE Student Presentation - Eisenhower Middle School - 8th grade
DESCRIPTION:NOPE of Hillsborough shares their powerful presentation with the 8th grade of Eisenhower MS.
URL:https://nopehillsborough.org/event/nope-student-presentation-eisenhower-middle-school-8th-grade/
END:VEVENT
BEGIN:VEVENT
DTSTART;TZID=UTC:20181030T083000
DTEND;TZID=UTC:20181030T092000
DTSTAMP:20260419T205138
CREATED:20180829T204754Z
LAST-MODIFIED:20180829T204754Z
UID:762-1540888200-1540891200@nopehillsborough.org
SUMMARY:NOPE Student Presentation - Terrace Community Middle School - 8th grade
DESCRIPTION:NOPE of Hillsborough shares their powerful presentation with the 8th grade of Terrace Community MS.
URL:https://nopehillsborough.org/event/nope-student-presentation-terrace-community-middle-school-8th-grade/
END:VEVENT
BEGIN:VEVENT
DTSTART;TZID=UTC:20181025T093000
DTEND;TZID=UTC:20181025T102000
DTSTAMP:20260419T205138
CREATED:20180806T185658Z
LAST-MODIFIED:20180806T185658Z
UID:718-1540459800-1540462800@nopehillsborough.org
SUMMARY:NOPE Student Presentation - Alonso High School - Seniors
DESCRIPTION:NOPE of Hillsborough shares their powerful student presentation with the Senior class of Alonso HS.
URL:https://nopehillsborough.org/event/nope-student-presentation-alonso-high-school-seniors/
END:VEVENT
BEGIN:VEVENT
DTSTART;TZID=UTC:20181023T094500
DTEND;TZID=UTC:20181023T103500
DTSTAMP:20260419T205138
CREATED:20180817T164124Z
LAST-MODIFIED:20180817T164124Z
UID:734-1540287900-1540290900@nopehillsborough.org
SUMMARY:NOPE Student Presentation - Farnell Middle School - 8th grade
DESCRIPTION:NOPE of Hillsborough shares their powerful presentation with the 8th grade of Farnell MS.
URL:https://nopehillsborough.org/event/nope-student-presentation-farnell-middle-school-8th-grade/
END:VEVENT
BEGIN:VEVENT
DTSTART;TZID=UTC:20181018T180000
DTEND;TZID=UTC:20181018T200000
DTSTAMP:20260419T205138
CREATED:20180919T200154Z
LAST-MODIFIED:20180919T200154Z
UID:789-1539885600-1539892800@nopehillsborough.org
SUMMARY:NOPE of Hillsborough's 8th Annual Candle Light Vigil - Hillsborough High School
DESCRIPTION:Join us for NOPE of Hillsborough’s 8th Annual Candle Light Vigil at Hillsborough High School’s Auditorium and Front Lawn located at 5000 N. Central Ave\, Tampa\, FL 33603. Memorial Wall viewing starts at 6PM with the ceremony starting promptly at 7PM.
URL:https://nopehillsborough.org/event/nope-hillsboroughs-8th-annual-candle-light-vigil-hillsborough-high-school/
END:VEVENT
BEGIN:VEVENT
DTSTART;TZID=UTC:20181017T094500
DTEND;TZID=UTC:20181017T103500
DTSTAMP:20260419T205138
CREATED:20180806T185528Z
LAST-MODIFIED:20180806T185528Z
UID:716-1539769500-1539772500@nopehillsborough.org
SUMMARY:NOPE Student Presentation - McLane Middle School - 6th grade
DESCRIPTION:NOPE of Hillsborough shares their powerful student presentation with the 6th grade class of McLane MS.
URL:https://nopehillsborough.org/event/nope-student-presentation-mclane-middle-school-6th-grade/
END:VEVENT
BEGIN:VEVENT
DTSTART;TZID=UTC:20181016T093000
DTEND;TZID=UTC:20181016T102000
DTSTAMP:20260419T205138
CREATED:20180824T193351Z
LAST-MODIFIED:20180829T204044Z
UID:748-1539682200-1539685200@nopehillsborough.org
SUMMARY:NOPE Student Presentation - Wharton High School - Juniors
DESCRIPTION:NOPE of Hillsborough shares their powerful presentation with the Junior class of Wharton HS.
URL:https://nopehillsborough.org/event/nope-student-presentation-wharton-high-school/
END:VEVENT
BEGIN:VEVENT
DTSTART;TZID=UTC:20181013T120000
DTEND;TZID=UTC:20181013T133000
DTSTAMP:20260419T205138
CREATED:20180601T213715Z
LAST-MODIFIED:20180601T213715Z
UID:672-1539432000-1539437400@nopehillsborough.org
SUMMARY:Journey to Healing Hearts - A Support Group
DESCRIPTION:Please join us on the 2nd Saturday of every month at 12 noon as we offer support to those who have lost loved ones to drug or alcohol abuse. Location is: 2815 E Henry Ave B-1\, Tampa\, FL 33610.
URL:https://nopehillsborough.org/event/journey-healing-hearts-support-group-6/
END:VEVENT
BEGIN:VEVENT
DTSTART;TZID=UTC:20181011T092200
DTEND;TZID=UTC:20181011T101200
DTSTAMP:20260419T205138
CREATED:20180821T143343Z
LAST-MODIFIED:20181003T214234Z
UID:736-1539249720-1539252720@nopehillsborough.org
SUMMARY:NOPE Student Presentation - Blake High School - Seniors
DESCRIPTION:NOPE of Hillsborough shares their powerful presentation with the Senior class of Blake HS.
URL:https://nopehillsborough.org/event/nope-student-presentation-blake-high-school/
END:VEVENT
BEGIN:VEVENT
DTSTART;TZID=UTC:20181009T091500
DTEND;TZID=UTC:20181009T100000
DTSTAMP:20260419T205138
CREATED:20180822T213346Z
LAST-MODIFIED:20180829T203928Z
UID:741-1539076500-1539079200@nopehillsborough.org
SUMMARY:NOPE Student Presentation - Middleton High School - Seniors
DESCRIPTION:NOPE of Hillsborough shares their powerful presentation with the Senior class of Middleton HS.
URL:https://nopehillsborough.org/event/nope-student-presentation-middleton-high-school/
END:VEVENT
BEGIN:VEVENT
DTSTART;TZID=UTC:20181008T091500
DTEND;TZID=UTC:20181008T100500
DTSTAMP:20260419T205138
CREATED:20181003T204147Z
LAST-MODIFIED:20181003T204147Z
UID:819-1538990100-1538993100@nopehillsborough.org
SUMMARY:NOPE Student Presentation - Plant High School - Sophomore Class
DESCRIPTION:Nope of Hillsborough shares their powerful presentation with the Sophomore class of Plant HS.
URL:https://nopehillsborough.org/event/nope-student-presentation-plant-high-school-sophomore-class/
END:VEVENT
BEGIN:VEVENT
DTSTART;TZID=UTC:20181005T094500
DTEND;TZID=UTC:20181005T103500
DTSTAMP:20260419T205138
CREATED:20180806T185141Z
LAST-MODIFIED:20181003T203853Z
UID:714-1538732700-1538735700@nopehillsborough.org
SUMMARY:NOPE Student Presentation - Hill Middle School - 8th grade
DESCRIPTION:NOPE of Hillsborough shares their powerful student presentation with the 8th grade class of Hill MS.
URL:https://nopehillsborough.org/event/nope-student-presentation-hill-middle-school-8th-grade/
END:VEVENT
BEGIN:VEVENT
DTSTART;TZID=UTC:20181004T092600
DTEND;TZID=UTC:20181004T110800
DTSTAMP:20260419T205138
CREATED:20180824T193203Z
LAST-MODIFIED:20180829T203823Z
UID:746-1538645160-1538651280@nopehillsborough.org
SUMMARY:NOPE Student Presentation - Armwood High School - Seniors
DESCRIPTION:NOPE of Hillsborough shares their powerful presentation with the Senior class of Armwood HS.
URL:https://nopehillsborough.org/event/nope-student-presentation-armwood-high-school/
END:VEVENT
BEGIN:VEVENT
DTSTART;TZID=UTC:20181001T134000
DTEND;TZID=UTC:20181001T143000
DTSTAMP:20260419T205138
CREATED:20180806T185012Z
LAST-MODIFIED:20180806T185012Z
UID:712-1538401200-1538404200@nopehillsborough.org
SUMMARY:NOPE Student Presentation - Madison Middle School - 8th grade
DESCRIPTION:NOPE of Hillsborough shares their powerful student presentation with the 8th grade class of Madison MS.
URL:https://nopehillsborough.org/event/nope-student-presentation-madison-middle-school-8th-grade/
END:VEVENT
BEGIN:VEVENT
DTSTART;TZID=UTC:20180927T141500
DTEND;TZID=UTC:20180927T161000
DTSTAMP:20260419T205138
CREATED:20180806T184838Z
LAST-MODIFIED:20180806T184838Z
UID:710-1538057700-1538064600@nopehillsborough.org
SUMMARY:NOPE Student Presentations - Tomlin Middle School - 6th\, 7th and 8th grades
DESCRIPTION:NOPE of Hillsborough shares their powerful student presentation with the 6th\, 7th and 8th grade classes of Tomlin MS.
URL:https://nopehillsborough.org/event/nope-student-presentations-tomlin-middle-school-6th-7th-8th-grades/
END:VEVENT
BEGIN:VEVENT
DTSTART;TZID=UTC:20180921T100700
DTEND;TZID=UTC:20180921T105700
DTSTAMP:20260419T205138
CREATED:20180806T184513Z
LAST-MODIFIED:20180824T193700Z
UID:708-1537524420-1537527420@nopehillsborough.org
SUMMARY:NOPE Student Presentation - Leto High School - Seniors
DESCRIPTION:NOPE of Hillsborough shares their powerful student presentation with the Senior class of Leto HS.
URL:https://nopehillsborough.org/event/nope-student-presentation-leto-high-school-seniors/
END:VEVENT
BEGIN:VEVENT
DTSTART;TZID=UTC:20180914T093000
DTEND;TZID=UTC:20180914T102000
DTSTAMP:20260419T205138
CREATED:20180806T183940Z
LAST-MODIFIED:20180909T180232Z
UID:704-1536917400-1536920400@nopehillsborough.org
SUMMARY:NOPE Student Presentation - Davidsen Middle School - 8th grade
DESCRIPTION:NOPE of Hillsborough shares their powerful student presentation with the 8th grade class of Davidsen MS.
URL:https://nopehillsborough.org/event/nope-student-presentation-davidsen-middle-school-8th-grade/
END:VEVENT
BEGIN:VEVENT
DTSTART;TZID=UTC:20180913T092000
DTEND;TZID=UTC:20180913T101000
DTSTAMP:20260419T205138
CREATED:20180824T192848Z
LAST-MODIFIED:20180829T203736Z
UID:744-1536830400-1536833400@nopehillsborough.org
SUMMARY:NOPE Student Presentation  - Sickles High School - Seniors
DESCRIPTION:NOPE of Hillsborough shares their powerful presentation with the Senior class of Sickles HS.
URL:https://nopehillsborough.org/event/nope-student-presentation-sickles-high-school/
END:VEVENT
BEGIN:VEVENT
DTSTART;TZID=UTC:20180910T133000
DTEND;TZID=UTC:20180910T142000
DTSTAMP:20260419T205138
CREATED:20180806T181530Z
LAST-MODIFIED:20180806T181530Z
UID:699-1536586200-1536589200@nopehillsborough.org
SUMMARY:NOPE Student Presentation - Wilson Middle School - 8th grade
DESCRIPTION:NOPE of Hillsborough shares their powerful student presentation at Wilson Middle School with 8th grade.
URL:https://nopehillsborough.org/event/nope-student-presentation-wilson-middle-school-8th-grade/
END:VEVENT
END:VCALENDAR