BEGIN:VCALENDAR
VERSION:2.0
PRODID:-//Nope Of Hillsborough - ECPv6.15.20//NONSGML v1.0//EN
CALSCALE:GREGORIAN
METHOD:PUBLISH
X-WR-CALNAME:Nope Of Hillsborough
X-ORIGINAL-URL:https://nopehillsborough.org
X-WR-CALDESC:Events for Nope Of Hillsborough
REFRESH-INTERVAL;VALUE=DURATION:PT1H
X-Robots-Tag:noindex
X-PUBLISHED-TTL:PT1H
BEGIN:VTIMEZONE
TZID:UTC
BEGIN:STANDARD
TZOFFSETFROM:+0000
TZOFFSETTO:+0000
TZNAME:UTC
DTSTART:20200101T000000
END:STANDARD
END:VTIMEZONE
BEGIN:VEVENT
DTSTART;TZID=UTC:20211103T084500
DTEND;TZID=UTC:20211103T101500
DTSTAMP:20260426T012334
CREATED:20210921T141253Z
LAST-MODIFIED:20211009T131348Z
UID:1924-1635929100-1635934500@nopehillsborough.org
SUMMARY:NOPE Student Presentations - Wharton High School - 2 presentations
DESCRIPTION:Our NOPE of Hillsborough team of volunteers will share two presentations at Wharton High School. First will be an 8:45 am start and second will be a 9:30 am start.
URL:https://nopehillsborough.org/event/nope-student-presentations-wharton-high-school-2-presentations/
END:VEVENT
BEGIN:VEVENT
DTSTART;TZID=UTC:20211112T093000
DTEND;TZID=UTC:20211112T113000
DTSTAMP:20260426T012334
CREATED:20211112T112339Z
LAST-MODIFIED:20211112T112339Z
UID:1980-1636709400-1636716600@nopehillsborough.org
SUMMARY:NOPE Student Presentation - Greco MS - Two Presentations
DESCRIPTION:NOPE of Hillsborough and its team of volunteers visit Greco Middle School this morning with two powerful presentations – one for 8th-grade students and one for 7th-grade students.
URL:https://nopehillsborough.org/event/nope-student-presentation-greco-ms-two-presentations/
END:VEVENT
BEGIN:VEVENT
DTSTART;TZID=UTC:20211113T100000
DTEND;TZID=UTC:20211113T120000
DTSTAMP:20260426T012334
CREATED:20210921T141711Z
LAST-MODIFIED:20210921T141711Z
UID:1928-1636797600-1636804800@nopehillsborough.org
SUMMARY:Journey to Healing Hearts Grief Support Group
DESCRIPTION:Please email togetheragain@earthlink.net for the details on where this grief support group meets. The start time is 10 am and usually lasts two hours. There is a virtual option as well.
URL:https://nopehillsborough.org/event/journey-to-healing-hearts-grief-support-group-2/
END:VEVENT
BEGIN:VEVENT
DTSTART;TZID=UTC:20211116T083000
DTEND;TZID=UTC:20211116T110500
DTSTAMP:20260426T012334
CREATED:20211020T115231Z
LAST-MODIFIED:20211020T115231Z
UID:1963-1637051400-1637060700@nopehillsborough.org
SUMMARY:NOPE Student Presentations - Two at Newsome HS\, Sophomores
DESCRIPTION:NOPE of Hillsborough’s team of volunteers will share their powerful student presentation at Newsome High School with their sophomore students with two presentations back-to-back to accommodate all students.
URL:https://nopehillsborough.org/event/nope-student-presentations-two-at-newsome-hs-sophomores/
END:VEVENT
BEGIN:VEVENT
DTSTART;TZID=UTC:20211129T084500
DTEND;TZID=UTC:20211129T102500
DTSTAMP:20260426T012334
CREATED:20211112T112602Z
LAST-MODIFIED:20211112T112613Z
UID:1982-1638175500-1638181500@nopehillsborough.org
SUMMARY:NOPE Student Presentations - Williams Middle Magnet School - Two Presentations
DESCRIPTION:The NOPE of Hillsborough team will share two student presentations at Williams MMS.
URL:https://nopehillsborough.org/event/nope-student-presentations-williams-middle-magnet-school-two-presentations/
END:VEVENT
END:VCALENDAR