BEGIN:VCALENDAR
VERSION:2.0
PRODID:-//Nope Of Hillsborough - ECPv6.15.20//NONSGML v1.0//EN
CALSCALE:GREGORIAN
METHOD:PUBLISH
X-WR-CALNAME:Nope Of Hillsborough
X-ORIGINAL-URL:https://nopehillsborough.org
X-WR-CALDESC:Events for Nope Of Hillsborough
REFRESH-INTERVAL;VALUE=DURATION:PT1H
X-Robots-Tag:noindex
X-PUBLISHED-TTL:PT1H
BEGIN:VTIMEZONE
TZID:UTC
BEGIN:STANDARD
TZOFFSETFROM:+0000
TZOFFSETTO:+0000
TZNAME:UTC
DTSTART:20210101T000000
END:STANDARD
END:VTIMEZONE
BEGIN:VEVENT
DTSTART;TZID=UTC:20220107T084500
DTEND;TZID=UTC:20220107T093500
DTSTAMP:20260425T205026
CREATED:20211112T112815Z
LAST-MODIFIED:20211112T112815Z
UID:1984-1641545100-1641548100@nopehillsborough.org
SUMMARY:NOPE Student Presentation - Strawberry Crest HS - Juniors
DESCRIPTION:The NOPE of Hillsborough team of volunteers will share a powerful student presentation with the Junior Class of Strawberry Crest High School.
URL:https://nopehillsborough.org/event/nope-student-presentation-strawberry-crest-hs-juniors/
END:VEVENT
BEGIN:VEVENT
DTSTART;TZID=UTC:20220108T100000
DTEND;TZID=UTC:20220108T120000
DTSTAMP:20260425T205026
CREATED:20211229T173332Z
LAST-MODIFIED:20220106T031059Z
UID:2012-1641636000-1641643200@nopehillsborough.org
SUMMARY:Journey to Healing Hearts Grief Support Group
DESCRIPTION:For those that have lost a loved one to a substance-related death\, this non-professional and free group will provide you with a sense of comfort and support. Meet us at 10 am at Wesley Memorial Church\, 6100 Memorial Highway\, Tampa\, 33615.  Please email togetheragain@earthlink.net for more details or to get the virtual option. The meeting usually lasts two hours. You do not have to grieve alone.
URL:https://nopehillsborough.org/event/journey-to-healing-hearts-grief-support-group-4/
END:VEVENT
BEGIN:VEVENT
DTSTART;TZID=UTC:20220114T145000
DTEND;TZID=UTC:20220114T153000
DTSTAMP:20260425T205026
CREATED:20210615T160322Z
LAST-MODIFIED:20220106T030237Z
UID:1872-1642171800-1642174200@nopehillsborough.org
SUMMARY:Postponed - NOPE Student Presentation - Randall MS - 8th grade
DESCRIPTION:This presentation has been postponed due to the rising number of cases of COVID in the area. \nThe NOPE of Hillsborough team will share a powerful student presentation with the 8th grade class of Randall Middle School later in the spring of 2022.
URL:https://nopehillsborough.org/event/nope-student-presentation-randall-ms-8th-grade/
END:VEVENT
BEGIN:VEVENT
DTSTART;TZID=UTC:20220118T092400
DTEND;TZID=UTC:20220118T101500
DTSTAMP:20260425T205026
CREATED:20220112T212334Z
LAST-MODIFIED:20220112T212334Z
UID:2031-1642497840-1642500900@nopehillsborough.org
SUMMARY:NOPE Student Presentation - Brandon High School - Sophomores
DESCRIPTION:The NOPE of Hillsborough team will share our powerful presentation to the students of Brandon High School. The sophomore class will be the class experiencing this presentation.
URL:https://nopehillsborough.org/event/nope-student-presentation-brandon-high-school-sophomores/
END:VEVENT
BEGIN:VEVENT
DTSTART;TZID=UTC:20220121T094500
DTEND;TZID=UTC:20220121T103500
DTSTAMP:20260425T205026
CREATED:20211112T113001Z
LAST-MODIFIED:20211112T113001Z
UID:1986-1642758300-1642761300@nopehillsborough.org
SUMMARY:NOPE Student Presentation - Davidsen Middle School - 8th grade
DESCRIPTION:The NOPE of Hillsborough team of volunteers will share a powerful student presentation with the 8th grade class of Davidsen MS.
URL:https://nopehillsborough.org/event/nope-student-presentation-davidsen-middle-school-8th-grade-2/
END:VEVENT
BEGIN:VEVENT
DTSTART;TZID=UTC:20220127T101500
DTEND;TZID=UTC:20220127T110000
DTSTAMP:20260425T205026
CREATED:20211112T113122Z
LAST-MODIFIED:20220126T150507Z
UID:1988-1643278500-1643281200@nopehillsborough.org
SUMMARY:POSTPONED! NOPE Student Presentation - Durant High School - Juniors
DESCRIPTION:We had to postpone this student presentation due to the high number of cases of COVID 19 in this school and in the district. \n  \nThe NOPE of Hillsborough team of volunteers will share a powerful student presentation with the Juniors of Durant HS.
URL:https://nopehillsborough.org/event/nope-student-presentation-durant-high-school-juniors/
END:VEVENT
BEGIN:VEVENT
DTSTART;TZID=UTC:20220128T080000
DTEND;TZID=UTC:20220128T170000
DTSTAMP:20260425T205026
CREATED:20220128T182518Z
LAST-MODIFIED:20220128T182518Z
UID:2052-1643356800-1643389200@nopehillsborough.org
SUMMARY:NOPE Student Presentation at Walker Middle School - 8th graders
DESCRIPTION:Our NOPE presentation team will be at Walker Middle School sharing our powerful student presentation with the 8th-grade class.
URL:https://nopehillsborough.org/event/nope-student-presentation-at-walker-middle-school-8th-graders/
END:VEVENT
END:VCALENDAR