BEGIN:VCALENDAR
VERSION:2.0
PRODID:-//Nope Of Hillsborough - ECPv6.15.20//NONSGML v1.0//EN
CALSCALE:GREGORIAN
METHOD:PUBLISH
X-ORIGINAL-URL:https://nopehillsborough.org
X-WR-CALDESC:Events for Nope Of Hillsborough
REFRESH-INTERVAL;VALUE=DURATION:PT1H
X-Robots-Tag:noindex
X-PUBLISHED-TTL:PT1H
BEGIN:VTIMEZONE
TZID:UTC
BEGIN:STANDARD
TZOFFSETFROM:+0000
TZOFFSETTO:+0000
TZNAME:UTC
DTSTART:20210101T000000
END:STANDARD
END:VTIMEZONE
BEGIN:VEVENT
DTSTART;TZID=UTC:20220308T180000
DTEND;TZID=UTC:20220308T190000
DTSTAMP:20260425T183204
CREATED:20220128T181213Z
LAST-MODIFIED:20220128T181213Z
UID:2038-1646762400-1646766000@nopehillsborough.org
SUMMARY:NOPE Virtual Parent Presentation for Brooks DeBartolo Collegiate High School Families
DESCRIPTION:Our NOPE presentation team will share a powerful and informative parent presentation virtually with the families of Brooks DeBartolo Collegiate high school. The ZOOM link for this event will be shared with that school’s population via a separate communication platform.
URL:https://nopehillsborough.org/event/nope-virtual-parent-presentation-for-brooks-debartolo-collegiate-high-school-families/
END:VEVENT
BEGIN:VEVENT
DTSTART;TZID=UTC:20220309T103000
DTEND;TZID=UTC:20220309T112000
DTSTAMP:20260425T183204
CREATED:20220128T181345Z
LAST-MODIFIED:20220228T170819Z
UID:2040-1646821800-1646824800@nopehillsborough.org
SUMMARY:NOPE Student Presentation at East Bay High School - 10th grade
DESCRIPTION:Our NOPE presentation team will share a powerful student presentation with students at East Bay High School. The grade level is sophomores.
URL:https://nopehillsborough.org/event/nope-student-presentation-at-east-bay-high-school/
END:VEVENT
BEGIN:VEVENT
DTSTART;TZID=UTC:20220311T103000
DTEND;TZID=UTC:20220311T121000
DTSTAMP:20260425T183204
CREATED:20220128T181606Z
LAST-MODIFIED:20220228T170856Z
UID:2042-1646994600-1647000600@nopehillsborough.org
SUMMARY:NOPE Student Presentations at Steinbrenner High School - Two Presentations
DESCRIPTION:Our NOPE of Hillsborough presentation team will be on the Steinbrenner High School campus for two student presentations. The grades are TBD.
URL:https://nopehillsborough.org/event/nope-student-presentations-at-steinbrenner-high-school-two-presentations/
END:VEVENT
BEGIN:VEVENT
DTSTART;TZID=UTC:20220312T100000
DTEND;TZID=UTC:20220312T120000
DTSTAMP:20260425T183204
CREATED:20211229T173534Z
LAST-MODIFIED:20211229T173534Z
UID:2016-1647079200-1647086400@nopehillsborough.org
SUMMARY:Journey to Healing Hearts Grief Support Group
DESCRIPTION:For those that have lost a loved one to a substance-related death\, this non-professional and free group will provide you with a sense of comfort and support. Please email togetheragain@earthlink.net for the details on where this grief support group meets. The start time is 10 am and usually lasts two hours. There is a virtual option as well. You do not have to grieve alone.
URL:https://nopehillsborough.org/event/journey-to-healing-hearts-grief-support-group-6/
END:VEVENT
BEGIN:VEVENT
DTSTART;TZID=UTC:20220323T124500
DTEND;TZID=UTC:20220323T133500
DTSTAMP:20260425T183204
CREATED:20220222T223652Z
LAST-MODIFIED:20220222T223652Z
UID:2058-1648039500-1648042500@nopehillsborough.org
SUMMARY:NOPE Student Presentation at Durant HS - Juniors
DESCRIPTION:The NOPE of Hillsborough team will share a powerful student presentation with the juniors of Durant HS.
URL:https://nopehillsborough.org/event/nope-student-presentation-at-durant-hs-juniors/
END:VEVENT
BEGIN:VEVENT
DTSTART;TZID=UTC:20220329T090000
DTEND;TZID=UTC:20220329T095000
DTSTAMP:20260425T183204
CREATED:20220128T181721Z
LAST-MODIFIED:20220128T181721Z
UID:2044-1648544400-1648547400@nopehillsborough.org
SUMMARY:NOPE Student Presentation at Gaither High School - Seniors
DESCRIPTION:The NOPE of Hillsborough presentation team will be at Gaither High School to share a powerful student presentation with their seniors.
URL:https://nopehillsborough.org/event/nope-student-presentation-at-gaither-high-school-seniors/
END:VEVENT
BEGIN:VEVENT
DTSTART;TZID=UTC:20220329T090000
DTEND;TZID=UTC:20220329T095000
DTSTAMP:20260425T183204
CREATED:20220222T223844Z
LAST-MODIFIED:20220222T223844Z
UID:2060-1648544400-1648547400@nopehillsborough.org
SUMMARY:NOPE Student Presentation at Gaither HS - Seniors
DESCRIPTION:The NOPE of Hillsborough team will share a powerful student presentation with the seniors of Gaither HS.
URL:https://nopehillsborough.org/event/nope-student-presentation-at-gaither-hs-seniors/
END:VEVENT
BEGIN:VEVENT
DTSTART;TZID=UTC:20220331T093000
DTEND;TZID=UTC:20220331T102000
DTSTAMP:20260425T183204
CREATED:20220330T175149Z
LAST-MODIFIED:20220330T175149Z
UID:2087-1648719000-1648722000@nopehillsborough.org
SUMMARY:NOPE Student Presentation at Mulrennan Middle School - 8th Grade
DESCRIPTION:The 8th grade class of Mulrennan MS will experience the NOPE student presentation on this morning.
URL:https://nopehillsborough.org/event/nope-student-presentation-at-mulrennan-middle-school-8th-grade/
END:VEVENT
END:VCALENDAR