BEGIN:VCALENDAR
VERSION:2.0
PRODID:-//Nope Of Hillsborough - ECPv6.15.20//NONSGML v1.0//EN
CALSCALE:GREGORIAN
METHOD:PUBLISH
X-WR-CALNAME:Nope Of Hillsborough
X-ORIGINAL-URL:https://nopehillsborough.org
X-WR-CALDESC:Events for Nope Of Hillsborough
REFRESH-INTERVAL;VALUE=DURATION:PT1H
X-Robots-Tag:noindex
X-PUBLISHED-TTL:PT1H
BEGIN:VTIMEZONE
TZID:UTC
BEGIN:STANDARD
TZOFFSETFROM:+0000
TZOFFSETTO:+0000
TZNAME:UTC
DTSTART:20210101T000000
END:STANDARD
END:VTIMEZONE
BEGIN:VEVENT
DTSTART;TZID=UTC:20220514T100000
DTEND;TZID=UTC:20220514T120000
DTSTAMP:20260425T160337
CREATED:20211229T173724Z
LAST-MODIFIED:20211229T173724Z
UID:2020-1652522400-1652529600@nopehillsborough.org
SUMMARY:Journey to Healing Hearts Grief Support Group
DESCRIPTION:For those that have lost a loved one to a substance-related death\, this non-professional and free group will provide you with a sense of comfort and support. Please email togetheragain@earthlink.net for the details on where this grief support group meets. The start time is 10 am and usually lasts two hours. There is a virtual option as well. You do not have to grieve alone.
URL:https://nopehillsborough.org/event/journey-to-healing-hearts-grief-support-group-8/
END:VEVENT
END:VCALENDAR