BEGIN:VCALENDAR
VERSION:2.0
PRODID:-//Nope Of Hillsborough - ECPv6.15.20//NONSGML v1.0//EN
CALSCALE:GREGORIAN
METHOD:PUBLISH
X-WR-CALNAME:Nope Of Hillsborough
X-ORIGINAL-URL:https://nopehillsborough.org
X-WR-CALDESC:Events for Nope Of Hillsborough
REFRESH-INTERVAL;VALUE=DURATION:PT1H
X-Robots-Tag:noindex
X-PUBLISHED-TTL:PT1H
BEGIN:VTIMEZONE
TZID:UTC
BEGIN:STANDARD
TZOFFSETFROM:+0000
TZOFFSETTO:+0000
TZNAME:UTC
DTSTART:20210101T000000
END:STANDARD
END:VTIMEZONE
BEGIN:VEVENT
DTSTART;TZID=UTC:20220910T100000
DTEND;TZID=UTC:20220910T120000
DTSTAMP:20260423T122237
CREATED:20220807T170928Z
LAST-MODIFIED:20220807T170928Z
UID:2161-1662804000-1662811200@nopehillsborough.org
SUMMARY:Journey to Healing Hearts Grief Support Group
DESCRIPTION:Please join us on the 2nd Saturday of every month at 10am as we offer support to those who have lost loved ones to drug or alcohol-abuse.\nThe address is Wesley Memorial Church\, 6100 Memorial Highway\, Tampa\, 33615. Go to the building behind the church for parking. The meeting is in the big square building at the back of the church. Look for Room 204. \nPlease email togetheragain@earthlink.net to receive further details and/or the ZOOM option.
URL:https://nopehillsborough.org/event/journey-to-healing-hearts-grief-support-group-12/
LOCATION:Wesley Memorial Church\, 6100 Memorial Highway\, Tampa\, FL\, 33615\, United States
END:VEVENT
BEGIN:VEVENT
DTSTART;TZID=UTC:20220914T092000
DTEND;TZID=UTC:20220914T101000
DTSTAMP:20260423T122237
CREATED:20220807T163955Z
LAST-MODIFIED:20220807T163955Z
UID:2127-1663147200-1663150200@nopehillsborough.org
SUMMARY:Nope Student Presentation - Robinson HS - Juniors
DESCRIPTION:Nope of Hillsborough shares their powerful presentation with the Junior class of Robinson HS.
URL:https://nopehillsborough.org/event/nope-student-presentation-robinson-hs-juniors/
LOCATION:robinson hs\, 6311 S Lois Ave\, Tampa\, FL\, 33616\, United States
END:VEVENT
BEGIN:VEVENT
DTSTART;TZID=UTC:20220921T094500
DTEND;TZID=UTC:20220921T103500
DTSTAMP:20260423T122237
CREATED:20220807T164905Z
LAST-MODIFIED:20220830T150443Z
UID:2135-1663753500-1663756500@nopehillsborough.org
SUMMARY:Nope Student Presentation - Mulrennen MS - 6th grade
DESCRIPTION:Nope of Hillsborough shares their powerful presentation with the 6th grade class of Mulrennen MS.
URL:https://nopehillsborough.org/event/nope-student-presentation-mulrennen-ms-6th-grade/
LOCATION:Mulrennen MS\, 4215 Durant Rd\, Valrico\, FL\, 33594\, United States
END:VEVENT
BEGIN:VEVENT
DTSTART;TZID=UTC:20220927T093000
DTEND;TZID=UTC:20220927T102000
DTSTAMP:20260423T122237
CREATED:20220807T165204Z
LAST-MODIFIED:20220830T150509Z
UID:2142-1664271000-1664274000@nopehillsborough.org
SUMMARY:Nope Student Presentation - Wharton HS - Juniors
DESCRIPTION:Nope of Hillsborough shares their powerful presentation with the Junior class of Wharton HS.
URL:https://nopehillsborough.org/event/nope-student-presentation-wharton-hs-juniors/
LOCATION:Wharton HS\, 20150 Bruce B Downs Blvd\, Tampa\, FL\, 33647\, United States
END:VEVENT
BEGIN:VEVENT
DTSTART;TZID=UTC:20220930T094500
DTEND;TZID=UTC:20220930T103500
DTSTAMP:20260423T122237
CREATED:20220807T165018Z
LAST-MODIFIED:20220830T150541Z
UID:2140-1664531100-1664534100@nopehillsborough.org
SUMMARY:Nope Student Presentation - Mulrennen MS - 7th grade
DESCRIPTION:Nope of Hillsborough shares their powerful presentation with the 7th grade class of Mulrennen MS.
URL:https://nopehillsborough.org/event/nope-student-presentation-mulrennen-ms-7th-grade/
LOCATION:Mulrennen MS\, 4215 Durant Rd\, Valrico\, FL\, 33594\, United States
END:VEVENT
END:VCALENDAR