BEGIN:VCALENDAR
VERSION:2.0
PRODID:-//Nope Of Hillsborough - ECPv6.15.20//NONSGML v1.0//EN
CALSCALE:GREGORIAN
METHOD:PUBLISH
X-WR-CALNAME:Nope Of Hillsborough
X-ORIGINAL-URL:https://nopehillsborough.org
X-WR-CALDESC:Events for Nope Of Hillsborough
REFRESH-INTERVAL;VALUE=DURATION:PT1H
X-Robots-Tag:noindex
X-PUBLISHED-TTL:PT1H
BEGIN:VTIMEZONE
TZID:UTC
BEGIN:STANDARD
TZOFFSETFROM:+0000
TZOFFSETTO:+0000
TZNAME:UTC
DTSTART:20210101T000000
END:STANDARD
END:VTIMEZONE
BEGIN:VEVENT
DTSTART;TZID=UTC:20221104T094500
DTEND;TZID=UTC:20221104T094500
DTSTAMP:20260421T134212
CREATED:20221026T143348Z
LAST-MODIFIED:20221026T143608Z
UID:2240-1667555100-1667555100@nopehillsborough.org
SUMMARY:Nope student presentation- Burns MS -8th grade
DESCRIPTION:Nope of Hillsborough shares their powerful presentation with select students at Burns MS.
URL:https://nopehillsborough.org/event/student-presentation-burns-ms-8th-grade/
END:VEVENT
BEGIN:VEVENT
DTSTART;TZID=UTC:20221112T100000
DTEND;TZID=UTC:20221112T120000
DTSTAMP:20260421T134212
CREATED:20220807T171022Z
LAST-MODIFIED:20220807T171022Z
UID:2165-1668247200-1668254400@nopehillsborough.org
SUMMARY:Journey to Healing Hearts Grief Support Group
DESCRIPTION:Please join us on the 2nd Saturday of every month at 10am as we offer support to those who have lost loved ones to drug or alcohol-abuse.\nThe address is Wesley Memorial Church\, 6100 Memorial Highway\, Tampa\, 33615. Go to the building behind the church for parking. The meeting is in the big square building at the back of the church. Look for Room 204. \nPlease email togetheragain@earthlink.net to receive further details and/or the ZOOM option.
URL:https://nopehillsborough.org/event/journey-to-healing-hearts-grief-support-group-14/
LOCATION:Wesley Memorial Church\, 6100 Memorial Highway\, Tampa\, FL\, 33615\, United States
END:VEVENT
BEGIN:VEVENT
DTSTART;TZID=UTC:20221116T092000
DTEND;TZID=UTC:20221116T101000
DTSTAMP:20260421T134212
CREATED:20220807T165908Z
LAST-MODIFIED:20220807T165908Z
UID:2153-1668590400-1668593400@nopehillsborough.org
SUMMARY:Nope Student Presentation - Mulrennen MS - 8th grade
DESCRIPTION:Nope of Hillsborough shares their powerful presentation with the 8th grade class of Mulrennen MS.
URL:https://nopehillsborough.org/event/nope-student-presentation-mulrennen-ms-8th-grade/
LOCATION:Mulrennen MS\, 4215 Durant Rd\, Valrico\, FL\, 33594\, United States
END:VEVENT
BEGIN:VEVENT
DTSTART;TZID=UTC:20221122T093500
DTEND;TZID=UTC:20221122T102500
DTSTAMP:20260421T134212
CREATED:20221122T013623Z
LAST-MODIFIED:20221122T013623Z
UID:2256-1669109700-1669112700@nopehillsborough.org
SUMMARY:Nope Student Presentation - Mulrennen MS  - Select Students
DESCRIPTION:Nope of Hillsborough shares their powerful presentation with select students at Mulrennen MS.
URL:https://nopehillsborough.org/event/nope-student-presentation-mulrennen-ms-select-students/
LOCATION:Mulrennen MS\, 4215 Durant Rd\, Valrico\, FL\, 33594\, United States
END:VEVENT
END:VCALENDAR