BEGIN:VCALENDAR
VERSION:2.0
PRODID:-//Nope Of Hillsborough - ECPv6.15.20//NONSGML v1.0//EN
CALSCALE:GREGORIAN
METHOD:PUBLISH
X-ORIGINAL-URL:https://nopehillsborough.org
X-WR-CALDESC:Events for Nope Of Hillsborough
REFRESH-INTERVAL;VALUE=DURATION:PT1H
X-Robots-Tag:noindex
X-PUBLISHED-TTL:PT1H
BEGIN:VTIMEZONE
TZID:UTC
BEGIN:STANDARD
TZOFFSETFROM:+0000
TZOFFSETTO:+0000
TZNAME:UTC
DTSTART:20210101T000000
END:STANDARD
END:VTIMEZONE
BEGIN:VEVENT
DTSTART;TZID=UTC:20221208T100000
DTEND;TZID=UTC:20221208T105000
DTSTAMP:20260421T122448
CREATED:20221122T013837Z
LAST-MODIFIED:20221122T013837Z
UID:2259-1670493600-1670496600@nopehillsborough.org
SUMMARY:Nope Student Presentation - Davidsen MS - 8th grade
DESCRIPTION:Nope of Hillsborough shares their powerful presentation with the 8th grade students of Davidsen MS
URL:https://nopehillsborough.org/event/nope-student-presentation-davidsen-ms-8th-grade/
LOCATION:Davidsen Middle\, 10501 Montague St\, Tampa\, FL\, United States
END:VEVENT
BEGIN:VEVENT
DTSTART;TZID=UTC:20221210T100000
DTEND;TZID=UTC:20221210T120000
DTSTAMP:20260421T122448
CREATED:20220807T171055Z
LAST-MODIFIED:20220807T171055Z
UID:2167-1670666400-1670673600@nopehillsborough.org
SUMMARY:Journey to Healing Hearts Grief Support Group
DESCRIPTION:Please join us on the 2nd Saturday of every month at 10am as we offer support to those who have lost loved ones to drug or alcohol-abuse.\nThe address is Wesley Memorial Church\, 6100 Memorial Highway\, Tampa\, 33615. Go to the building behind the church for parking. The meeting is in the big square building at the back of the church. Look for Room 204. \nPlease email togetheragain@earthlink.net to receive further details and/or the ZOOM option.
URL:https://nopehillsborough.org/event/journey-to-healing-hearts-grief-support-group-15/
LOCATION:Wesley Memorial Church\, 6100 Memorial Highway\, Tampa\, FL\, 33615\, United States
END:VEVENT
END:VCALENDAR