BEGIN:VCALENDAR
VERSION:2.0
PRODID:-//Nope Of Hillsborough - ECPv6.15.20//NONSGML v1.0//EN
CALSCALE:GREGORIAN
METHOD:PUBLISH
X-ORIGINAL-URL:https://nopehillsborough.org
X-WR-CALDESC:Events for Nope Of Hillsborough
REFRESH-INTERVAL;VALUE=DURATION:PT1H
X-Robots-Tag:noindex
X-PUBLISHED-TTL:PT1H
BEGIN:VTIMEZONE
TZID:UTC
BEGIN:STANDARD
TZOFFSETFROM:+0000
TZOFFSETTO:+0000
TZNAME:UTC
DTSTART:20220101T000000
END:STANDARD
END:VTIMEZONE
BEGIN:VEVENT
DTSTART;TZID=UTC:20230111T103500
DTEND;TZID=UTC:20230111T112500
DTSTAMP:20260421T110050
CREATED:20220807T170148Z
LAST-MODIFIED:20220807T170148Z
UID:2155-1673433300-1673436300@nopehillsborough.org
SUMMARY:Nope Student Presentation - Strawberry Crest HS - Juniors
DESCRIPTION:Nope of Hillsborough shares their powerful presentation with the Junior class of Strawberry Crest HS.
URL:https://nopehillsborough.org/event/nope-student-presentation-strawberry-crest-hs-juniors-2/
LOCATION:Strawberry Crest HS\, 4691 Gallagher Rd\, Dover\, FL\, 33527\, United States
END:VEVENT
BEGIN:VEVENT
DTSTART;TZID=UTC:20230114T100000
DTEND;TZID=UTC:20230114T120000
DTSTAMP:20260421T110050
CREATED:20230104T150147Z
LAST-MODIFIED:20230117T165822Z
UID:2279-1673690400-1673697600@nopehillsborough.org
SUMMARY:Journey To Healing Hearts Grief Support Group
DESCRIPTION:Please join us on the 2nd Saturday of every month at 10am as we offer support to those who have lost loved ones to drug or alcohol-abuse. \nThe address is Wesley Memorial Church\, 6100 Memorial Highway\, Tampa\, 33615. Go to the building behind the church for parking. The meeting is in the big square building at the back of the church. Look for Room 204.  \nPlease email togetheragain@earthlink.net to receive further details and/or the ZOOM option.
URL:https://nopehillsborough.org/event/journey-to-healing-hearts-grief-support-group-16/
LOCATION:Wesley Memorial Church\, 6100 Memorial Highway\, Tampa\, FL\, 33615\, United States
END:VEVENT
BEGIN:VEVENT
DTSTART;TZID=UTC:20230124T095000
DTEND;TZID=UTC:20230124T104000
DTSTAMP:20260421T110050
CREATED:20221122T014158Z
LAST-MODIFIED:20221122T014158Z
UID:2264-1674553800-1674556800@nopehillsborough.org
SUMMARY:Nope Student Presentation - Ben Hill MS - 8th Grade
DESCRIPTION:Nope of Hillsborough shares their powerful presentation with the 8th graders at Ben Hill MS.
URL:https://nopehillsborough.org/event/nope-student-presentation-ben-hill-ms-8th-grade/
LOCATION:Ben Hill MS\, 5200 Ehrlich Rd\, Tampa\, FL\, 33624\, United States
END:VEVENT
BEGIN:VEVENT
DTSTART;TZID=UTC:20230127T133000
DTEND;TZID=UTC:20230127T142000
DTSTAMP:20260421T110050
CREATED:20221122T014353Z
LAST-MODIFIED:20221122T014353Z
UID:2267-1674826200-1674829200@nopehillsborough.org
SUMMARY:Nope Student Presentation - South County Career - 9-12 grade
DESCRIPTION:Nope of Hillsborough shares their powerful presentation with the 9-12 grade classes at South County Career Center
URL:https://nopehillsborough.org/event/nope-student-presentation-south-county-career-9-12-grade/
LOCATION:South County Career\, 2810 John Sherman Way\, Ruskin\, FL\, 33570\, United States
END:VEVENT
END:VCALENDAR